BEGIN:VCALENDAR
VERSION:2.0
PRODID:-//Plone.org//NONSGML plone.app.event//EN
X-WR-TIMEZONE:US/Central
BEGIN:VEVENT
SUMMARY:FB SRP Story Time
DTSTART;TZID=US/Central:20210709T130000
DTEND;TZID=US/Central:20210709T133000
DTSTAMP:20260424T083331Z
UID:847c2c94637b49dcb6f42d9748c53812@saas_stack_varnish:6080
ATTENDEE;CN="ages 2 to 8";ROLE=REQ-PARTICIPANT:ages 2 to 8
CONTACT:Joyce L. Kleimann\, 14099867814\, hitchpl@comcast.net
CREATED:20210504T203415Z
LAST-MODIFIED:20210602T140138Z
LOCATION:Facebook: Hitchcock Public Library
URL:https://hitchcock.ploud.net/fb-srp-story-time
END:VEVENT
BEGIN:VTIMEZONE
TZID:US/Central
X-LIC-LOCATION:US/Central
BEGIN:DAYLIGHT
DTSTART:20210314T030000
TZNAME:CDT
TZOFFSETFROM:-0600
TZOFFSETTO:-0500
END:DAYLIGHT
END:VTIMEZONE
END:VCALENDAR
