BEGIN:VCALENDAR
VERSION:2.0
PRODID:-//Plone.org//NONSGML plone.app.event//EN
X-WR-TIMEZONE:US/Central
BEGIN:VEVENT
SUMMARY:FB SRP Stories about different houses
DTSTART;TZID=US/Central:20210629T130000
DTEND;TZID=US/Central:20210629T133000
DTSTAMP:20260422T084841Z
UID:6eda1a00e3b6407888801ce7c9c07e7e@saas_stack_varnish:6080
ATTENDEE;CN="ages 2 to 12";ROLE=REQ-PARTICIPANT:ages 2 to 12
CONTACT:Joyce L. Kleimann\, 14099867814\, hitchpl@comcast.net
CREATED:20210504T200445Z
LAST-MODIFIED:20210602T135857Z
LOCATION:Facebook: Hitchcock Public Library
URL:https://hitchcock.ploud.net/fb-srp-stories-about-different-houses
END:VEVENT
BEGIN:VTIMEZONE
TZID:US/Central
X-LIC-LOCATION:US/Central
BEGIN:DAYLIGHT
DTSTART:20210314T030000
TZNAME:CDT
TZOFFSETFROM:-0600
TZOFFSETTO:-0500
END:DAYLIGHT
END:VTIMEZONE
END:VCALENDAR
