BEGIN:VCALENDAR
VERSION:2.0
PRODID:-//Plone.org//NONSGML plone.app.event//EN
X-WR-TIMEZONE:US/Central
BEGIN:VEVENT
SUMMARY:FB SRP Salsa Dance
DTSTART;TZID=US/Central:20210617T130000
DTEND;TZID=US/Central:20210617T133000
DTSTAMP:20260422T070001Z
UID:9e24462248cb479abfb3c92b94a63e24@saas_stack_varnish:6080
ATTENDEE;CN="ages 2 to 12";ROLE=REQ-PARTICIPANT:ages 2 to 12
CONTACT:Joyce L. Kleimann\, 14099867814\, hitchpl@comcast.net
CREATED:20210504T193515Z
LAST-MODIFIED:20210602T135651Z
LOCATION:Facebook: Hitchcock Public Library
URL:https://hitchcock.ploud.net/fb-srp-salsa-dance
END:VEVENT
BEGIN:VTIMEZONE
TZID:US/Central
X-LIC-LOCATION:US/Central
BEGIN:DAYLIGHT
DTSTART:20210314T030000
TZNAME:CDT
TZOFFSETFROM:-0600
TZOFFSETTO:-0500
END:DAYLIGHT
END:VTIMEZONE
END:VCALENDAR
