BEGIN:VCALENDAR
VERSION:2.0
PRODID:-//Plone.org//NONSGML plone.app.event//EN
X-WR-TIMEZONE:US/Central
BEGIN:VEVENT
SUMMARY:FB SRP "Lizzie on the Inside" with author KaTrina Nichols
DTSTART;TZID=US/Central:20210618T130000
DTEND;TZID=US/Central:20210618T133000
DTSTAMP:20260422T072008Z
UID:5a605a6316884569934193ad3c53258d@saas_stack_varnish:6080
ATTENDEE;CN="ages 2 to 8";ROLE=REQ-PARTICIPANT:ages 2 to 8
CONTACT:Joyce L. Kleimann\, 14099867814\, hitchpl@comcast.net
CREATED:20210504T193912Z
LAST-MODIFIED:20210602T135734Z
LOCATION:Facebook: Hitchcock Public Library
URL:https://hitchcock.ploud.net/fb-srp-lizzie-on-the-inside-with-author-ka
 trina-nichols
END:VEVENT
BEGIN:VTIMEZONE
TZID:US/Central
X-LIC-LOCATION:US/Central
BEGIN:DAYLIGHT
DTSTART:20210314T030000
TZNAME:CDT
TZOFFSETFROM:-0600
TZOFFSETTO:-0500
END:DAYLIGHT
END:VTIMEZONE
END:VCALENDAR
