BEGIN:VCALENDAR
VERSION:2.0
PRODID:-//Plone.org//NONSGML plone.app.event//EN
X-WR-TIMEZONE:US/Central
BEGIN:VEVENT
SUMMARY:FB SRP Game: Sea Animal "Bingo"
DTSTART;TZID=US/Central:20210720T130000
DTEND;TZID=US/Central:20210720T133000
DTSTAMP:20260422T090246Z
UID:6d25285305f84f249a21381c9e8b2d6e@saas_stack_varnish:6080
ATTENDEE;CN="AGES 2 to 6";ROLE=REQ-PARTICIPANT:AGES 2 to 6
CONTACT:Hitchcock Public Library\, 4099867814\, hitchpl@comcast.net
CREATED:20210504T205751Z
DESCRIPTION:ages 2 to 6
LAST-MODIFIED:20210602T140336Z
LOCATION:Facebook: Hitchcock Public Library
URL:https://hitchcock.ploud.net/fb-srp-game-sea-animal-bingo
END:VEVENT
BEGIN:VTIMEZONE
TZID:US/Central
X-LIC-LOCATION:US/Central
BEGIN:DAYLIGHT
DTSTART:20210314T030000
TZNAME:CDT
TZOFFSETFROM:-0600
TZOFFSETTO:-0500
END:DAYLIGHT
END:VTIMEZONE
END:VCALENDAR
