BEGIN:VCALENDAR
VERSION:2.0
PRODID:-//Plone.org//NONSGML plone.app.event//EN
X-WR-TIMEZONE:US/Central
BEGIN:VEVENT
SUMMARY:FB SRP Dad's Day Craft
DTSTART;TZID=US/Central:20210616T130000
DTEND;TZID=US/Central:20210616T133000
DTSTAMP:20260422T082551Z
UID:51049eae5bf64086b38b5a1aeb8ed4fb@saas_stack_varnish:6080
ATTENDEE;CN="ages 2-12";ROLE=REQ-PARTICIPANT:ages 2-12
CONTACT:Joyce L. Kleimann\, 14099867814\, hitchpl@comcast.net
CREATED:20210504T192823Z
LAST-MODIFIED:20210602T135632Z
LOCATION:Facebook: Hitchcock Public Library
URL:https://hitchcock.ploud.net/fb-srp-dads-day-craft
END:VEVENT
BEGIN:VTIMEZONE
TZID:US/Central
X-LIC-LOCATION:US/Central
BEGIN:DAYLIGHT
DTSTART:20210314T030000
TZNAME:CDT
TZOFFSETFROM:-0600
TZOFFSETTO:-0500
END:DAYLIGHT
END:VTIMEZONE
END:VCALENDAR
