BEGIN:VCALENDAR
VERSION:2.0
PRODID:-//Plone.org//NONSGML plone.app.event//EN
X-WR-TIMEZONE:US/Central
BEGIN:VEVENT
SUMMARY:FB SRP Craft: Egg Carton Gold Fish
DTSTART;TZID=US/Central:20210722T130000
DTEND;TZID=US/Central:20210722T134500
DTSTAMP:20260422T071911Z
UID:e619e915b596435ea4f0960bfe39aa9b@saas_stack_varnish:6080
ATTENDEE;CN="ages 2 - 12";ROLE=REQ-PARTICIPANT:ages 2 - 12
CONTACT:Joyce L. Kleimann\, 14099867814\, hitchpl@comcast.net
CREATED:20210504T210455Z
LAST-MODIFIED:20210602T140409Z
LOCATION:Facebook: Hitchcock Public Library
URL:https://hitchcock.ploud.net/fb-srp-craft-egg-carton-gold-fish
END:VEVENT
BEGIN:VTIMEZONE
TZID:US/Central
X-LIC-LOCATION:US/Central
BEGIN:DAYLIGHT
DTSTART:20210314T030000
TZNAME:CDT
TZOFFSETFROM:-0600
TZOFFSETTO:-0500
END:DAYLIGHT
END:VTIMEZONE
END:VCALENDAR
