BEGIN:VCALENDAR
VERSION:2.0
PRODID:-//Plone.org//NONSGML plone.app.event//EN
X-WR-TIMEZONE:US/Central
BEGIN:VEVENT
SUMMARY:FB SRP Craft-Clay turtles
DTSTART;TZID=US/Central:20210623T130000
DTEND;TZID=US/Central:20210623T134500
DTSTAMP:20260424T102143Z
UID:255e40b1033d4db3a1a56e713196b1aa@saas_stack_varnish:6080
ATTENDEE;CN="ages 2 to 6 with help";ROLE=REQ-PARTICIPANT:ages 2 to 6 with 
 help
ATTENDEE;CN="ages 7 - 12";ROLE=REQ-PARTICIPANT:ages 7 - 12
CONTACT:Joyce L. Kleimann\, 14099867814\, hitchpl@comcast.net
CREATED:20210504T195027Z
LAST-MODIFIED:20210602T135807Z
LOCATION:Facebook: Hitchcock Public Library
URL:https://hitchcock.ploud.net/fb-srp-craft-clay-turtles
END:VEVENT
BEGIN:VTIMEZONE
TZID:US/Central
X-LIC-LOCATION:US/Central
BEGIN:DAYLIGHT
DTSTART:20210314T030000
TZNAME:CDT
TZOFFSETFROM:-0600
TZOFFSETTO:-0500
END:DAYLIGHT
END:VTIMEZONE
END:VCALENDAR
