BEGIN:VCALENDAR
VERSION:2.0
PRODID:-//Plone.org//NONSGML plone.app.event//EN
X-WR-TIMEZONE:US/Central
BEGIN:VEVENT
SUMMARY:FB SRP "Art Lesson" with Ms. Cardenas
DTSTART;TZID=US/Central:20210701T130000
DTEND;TZID=US/Central:20210701T133000
DTSTAMP:20260422T071951Z
UID:13baebac9bfb44278338d9e2617aacab@saas_stack_varnish:6080
ATTENDEE;CN="ages 5 to 12";ROLE=REQ-PARTICIPANT:ages 5 to 12
CONTACT:Joyce L. Kleimann\, 14099867814\, hitchpl@comcast.net
CREATED:20210504T201422Z
LAST-MODIFIED:20210602T135941Z
LOCATION:Facebook: Hitchcock Public Library
URL:https://hitchcock.ploud.net/fb-srp-art-lesson-with-ms-cardenas
END:VEVENT
BEGIN:VTIMEZONE
TZID:US/Central
X-LIC-LOCATION:US/Central
BEGIN:DAYLIGHT
DTSTART:20210314T030000
TZNAME:CDT
TZOFFSETFROM:-0600
TZOFFSETTO:-0500
END:DAYLIGHT
END:VTIMEZONE
END:VCALENDAR
