BEGIN:VCALENDAR
VERSION:2.0
PRODID:-//Plone.org//NONSGML plone.app.event//EN
X-WR-TIMEZONE:US/Central
BEGIN:VEVENT
SUMMARY:FB SRP "Amazon Bingo" for kids
DTSTART;TZID=US/Central:20210706T130000
DTEND;TZID=US/Central:20210706T133000
DTSTAMP:20260424T102018Z
UID:af7e7888f5784f38becd0520fa298f2a@saas_stack_varnish:6080
ATTENDEE;CN="ages 7 - 12";ROLE=REQ-PARTICIPANT:ages 7 - 12
CONTACT:Joyce L. Kleimann\, 14099867814\, hitchpl@comcast.net
CREATED:20210504T202037Z
LAST-MODIFIED:20210602T140042Z
LOCATION:Facebook: Hitchcock Public Library
URL:https://hitchcock.ploud.net/fb-srp-amazon-bingo-for-kids
END:VEVENT
BEGIN:VTIMEZONE
TZID:US/Central
X-LIC-LOCATION:US/Central
BEGIN:DAYLIGHT
DTSTART:20210314T030000
TZNAME:CDT
TZOFFSETFROM:-0600
TZOFFSETTO:-0500
END:DAYLIGHT
END:VTIMEZONE
END:VCALENDAR
