BEGIN:VCALENDAR
VERSION:2.0
PRODID:-//Plone.org//NONSGML plone.app.event//EN
X-WR-TIMEZONE:US/Central
BEGIN:VEVENT
SUMMARY:FB:  Jennie the "Bee" Lady
DTSTART;TZID=US/Central:20210625T130000
DTEND;TZID=US/Central:20210625T134500
DTSTAMP:20260422T090248Z
UID:232cc69fc6ef43d799ecf58525374cee@saas_stack_varnish:6080
ATTENDEE;CN="ages 2 to 12";ROLE=REQ-PARTICIPANT:ages 2 to 12
CONTACT:Joyce L. Kleimann\, 14099867814\, hitchpl@comcast.net
CREATED:20210504T195830Z
LAST-MODIFIED:20210602T135837Z
LOCATION:Facebook: Hitchcock Public Library
URL:https://hitchcock.ploud.net/fb-jennie-the-bee-lady
END:VEVENT
BEGIN:VTIMEZONE
TZID:US/Central
X-LIC-LOCATION:US/Central
BEGIN:DAYLIGHT
DTSTART:20210314T030000
TZNAME:CDT
TZOFFSETFROM:-0600
TZOFFSETTO:-0500
END:DAYLIGHT
END:VTIMEZONE
END:VCALENDAR
