BEGIN:VCALENDAR
VERSION:2.0
PRODID:-//Plone.org//NONSGML plone.app.event//EN
X-WR-TIMEZONE:US/Central
BEGIN:VEVENT
SUMMARY:FB: "Clark the Shark" Storytime Sing-a-long
DTSTART;TZID=US/Central:20210903T133000
DTEND;TZID=US/Central:20210903T140000
DTSTAMP:20260422T091542Z
UID:fbb36a8a27e348c08345b4738fcbf3df@saas_stack_varnish:6080
ATTENDEE;CN="Children ages 1 - 5";ROLE=REQ-PARTICIPANT:Children ages 1 - 5
CONTACT:Joyce L. Kleimann\, 1-409-986-7814\, hitchpl@comcast.net
CREATED:20210825T190740Z
LAST-MODIFIED:20210825T195428Z
LOCATION:Facebook or in-person
URL:https://hitchcock.ploud.net/fb-clark-the-shark-storytime-sing-a-long
END:VEVENT
BEGIN:VTIMEZONE
TZID:US/Central
X-LIC-LOCATION:US/Central
BEGIN:DAYLIGHT
DTSTART:20210314T030000
TZNAME:CDT
TZOFFSETFROM:-0600
TZOFFSETTO:-0500
END:DAYLIGHT
END:VTIMEZONE
END:VCALENDAR
