BEGIN:VCALENDAR
VERSION:2.0
PRODID:-//Plone.org//NONSGML plone.app.event//EN
X-WR-TIMEZONE:US/Central
BEGIN:VEVENT
SUMMARY:Fall Book & Rummage Sale
DTSTART;TZID=US/Central:20191012T103000
DTEND;TZID=US/Central:20191012T144500
DTSTAMP:20260422T070243Z
UID:2f64fdbf4608411fa5f4a881351a0ce0@saas_stack_varnish:6080
CREATED:20190924T202146Z
LAST-MODIFIED:20190924T202151Z
LOCATION:Hitchcock Library
URL:https://hitchcock.ploud.net/fall-book-rummage-sale
END:VEVENT
BEGIN:VTIMEZONE
TZID:US/Central
X-LIC-LOCATION:US/Central
BEGIN:DAYLIGHT
DTSTART:20190310T030000
TZNAME:CDT
TZOFFSETFROM:-0600
TZOFFSETTO:-0500
END:DAYLIGHT
END:VTIMEZONE
END:VCALENDAR
