BEGIN:VCALENDAR
VERSION:2.0
PRODID:-//Plone.org//NONSGML plone.app.event//EN
X-WR-TIMEZONE:US/Central
BEGIN:VEVENT
SUMMARY:Fall Book & Rummage Sale
DTSTART;TZID=US/Central:20191017T100000
DTEND;TZID=US/Central:20191017T170000
DTSTAMP:20260422T090058Z
UID:edae93a309f8422aa9451295582f0a3e@saas_stack_varnish:6080
CREATED:20190924T202454Z
LAST-MODIFIED:20190924T202650Z
URL:https://hitchcock.ploud.net/fall-book-rummage-sale-3
END:VEVENT
BEGIN:VTIMEZONE
TZID:US/Central
X-LIC-LOCATION:US/Central
BEGIN:DAYLIGHT
DTSTART:20190310T030000
TZNAME:CDT
TZOFFSETFROM:-0600
TZOFFSETTO:-0500
END:DAYLIGHT
END:VTIMEZONE
END:VCALENDAR
