BEGIN:VCALENDAR
VERSION:2.0
PRODID:-//Plone.org//NONSGML plone.app.event//EN
X-WR-TIMEZONE:US/Central
BEGIN:VEVENT
SUMMARY:Fall Book & Rummage Sale
DTSTART;TZID=US/Central:20191016T100000
DTEND;TZID=US/Central:20191016T170000
DTSTAMP:20260422T083655Z
UID:9fff82e0d16a49068c501cd8bc7d1be2@saas_stack_varnish:6080
CREATED:20190924T202355Z
LAST-MODIFIED:20190924T202401Z
URL:https://hitchcock.ploud.net/fall-book-rummage-sale-2
END:VEVENT
BEGIN:VTIMEZONE
TZID:US/Central
X-LIC-LOCATION:US/Central
BEGIN:DAYLIGHT
DTSTART:20190310T030000
TZNAME:CDT
TZOFFSETFROM:-0600
TZOFFSETTO:-0500
END:DAYLIGHT
END:VTIMEZONE
END:VCALENDAR
