BEGIN:VCALENDAR
VERSION:2.0
PRODID:-//Plone.org//NONSGML plone.app.event//EN
X-WR-TIMEZONE:US/Central
BEGIN:VEVENT
SUMMARY:Fall Book & Rummage Sale
DTSTART;TZID=US/Central:20191015T100000
DTEND;TZID=US/Central:20191015T170000
DTSTAMP:20260422T053533Z
UID:480ee69b40a4409b9c10cdf5b8c37e5c@saas_stack_varnish:6080
CREATED:20190924T202302Z
LAST-MODIFIED:20190924T202306Z
LOCATION:Hitchcock Library
URL:https://hitchcock.ploud.net/fall-book-rummage-sale-1
END:VEVENT
BEGIN:VTIMEZONE
TZID:US/Central
X-LIC-LOCATION:US/Central
BEGIN:DAYLIGHT
DTSTART:20190310T030000
TZNAME:CDT
TZOFFSETFROM:-0600
TZOFFSETTO:-0500
END:DAYLIGHT
END:VTIMEZONE
END:VCALENDAR
