BEGIN:VCALENDAR
VERSION:2.0
PRODID:-//Plone.org//NONSGML plone.app.event//EN
X-WR-TIMEZONE:US/Central
BEGIN:VEVENT
SUMMARY:Easter Egg Hunt
DTSTART;TZID=US/Central:20230401T103000
DTEND;TZID=US/Central:20230401T120000
DTSTAMP:20260422T052146Z
UID:25b036bc2f5f48ec9c0709b63cbee356@saas_stack_varnish:6080
CONTACT:409-986-7814\, hitchcockpubliclibrary@gmail.com
CREATED:20230304T203858Z
LAST-MODIFIED:20230304T203902Z
LOCATION:Hitchcock Public Library
URL:https://hitchcock.ploud.net/easter-egg-hunt
END:VEVENT
BEGIN:VTIMEZONE
TZID:US/Central
X-LIC-LOCATION:US/Central
BEGIN:DAYLIGHT
DTSTART:20230312T030000
TZNAME:CDT
TZOFFSETFROM:-0600
TZOFFSETTO:-0500
END:DAYLIGHT
END:VTIMEZONE
END:VCALENDAR
