BEGIN:VCALENDAR
VERSION:2.0
PRODID:-//Plone.org//NONSGML plone.app.event//EN
X-WR-TIMEZONE:US/Central
BEGIN:VEVENT
SUMMARY:Dungeons & Dragons
DTSTART;TZID=US/Central:20240328T150000
DTEND;TZID=US/Central:20240328T170000
DTSTAMP:20260422T052657Z
UID:7aeba3b633574a87a4d5c333d71c8907@saas_stack_varnish:6080
ATTENDEE;CN="Ages 12-17";ROLE=REQ-PARTICIPANT:Ages 12-17
CONTACT:Jess Garza\, 409-986-7814\, hitchcockpubliclibrary@gmail.com
CREATED:20240320T180528Z
LAST-MODIFIED:20240320T180538Z
LOCATION:Hitchcock Public Library
URL:https://hitchcock.ploud.net/dungeons-dragons
END:VEVENT
BEGIN:VTIMEZONE
TZID:US/Central
X-LIC-LOCATION:US/Central
BEGIN:DAYLIGHT
DTSTART:20240310T030000
TZNAME:CDT
TZOFFSETFROM:-0600
TZOFFSETTO:-0500
END:DAYLIGHT
END:VTIMEZONE
END:VCALENDAR
