BEGIN:VCALENDAR
VERSION:2.0
PRODID:-//Plone.org//NONSGML plone.app.event//EN
X-WR-TIMEZONE:US/Central
BEGIN:VEVENT
SUMMARY:Dungeons & Dragons
DTSTART;TZID=US/Central:20240425T150000
DTEND;TZID=US/Central:20240425T170000
DTSTAMP:20260422T071724Z
UID:37910233c7f14fe1a715b4a11c48ea90@saas_stack_varnish:6080
CONTACT:409-986-7814\, hitchcockpubliclibrary@gmail.com
CREATED:20240402T162035Z
LAST-MODIFIED:20240402T171923Z
LOCATION:Hitchcock Public Library
URL:https://hitchcock.ploud.net/dungeons-dragons-4
END:VEVENT
BEGIN:VTIMEZONE
TZID:US/Central
X-LIC-LOCATION:US/Central
BEGIN:DAYLIGHT
DTSTART:20240310T030000
TZNAME:CDT
TZOFFSETFROM:-0600
TZOFFSETTO:-0500
END:DAYLIGHT
END:VTIMEZONE
END:VCALENDAR
