BEGIN:VCALENDAR
VERSION:2.0
PRODID:-//Plone.org//NONSGML plone.app.event//EN
X-WR-TIMEZONE:US/Central
BEGIN:VEVENT
SUMMARY:Dungeons & Dragons
DTSTART;TZID=US/Central:20240418T150000
DTEND;TZID=US/Central:20240418T170000
DTSTAMP:20260422T071724Z
UID:290a4edfd7a0433e8daa4a46bc17ddeb@saas_stack_varnish:6080
CONTACT:409-986-7814\, hitchcockpubliclibrary@gmail.com
CREATED:20240402T161930Z
LAST-MODIFIED:20240402T171907Z
LOCATION:Hitchcock Public Library
URL:https://hitchcock.ploud.net/dungeons-dragons-3
END:VEVENT
BEGIN:VTIMEZONE
TZID:US/Central
X-LIC-LOCATION:US/Central
BEGIN:DAYLIGHT
DTSTART:20240310T030000
TZNAME:CDT
TZOFFSETFROM:-0600
TZOFFSETTO:-0500
END:DAYLIGHT
END:VTIMEZONE
END:VCALENDAR
