BEGIN:VCALENDAR
VERSION:2.0
PRODID:-//Plone.org//NONSGML plone.app.event//EN
X-WR-TIMEZONE:US/Central
BEGIN:VEVENT
SUMMARY:Dungeons & Dragons
DTSTART;TZID=US/Central:20240404T150000
DTEND;TZID=US/Central:20240404T170000
DTSTAMP:20260422T070029Z
UID:5006113374754e048949859c9b025875@saas_stack_varnish:6080
CONTACT:409-986-7814\, hitchcockpubliclibrary@gmail.com
CREATED:20240402T161628Z
LAST-MODIFIED:20240402T171831Z
LOCATION:Hitchcock Public Library
URL:https://hitchcock.ploud.net/dungeons-dragons-1
END:VEVENT
BEGIN:VTIMEZONE
TZID:US/Central
X-LIC-LOCATION:US/Central
BEGIN:DAYLIGHT
DTSTART:20240310T030000
TZNAME:CDT
TZOFFSETFROM:-0600
TZOFFSETTO:-0500
END:DAYLIGHT
END:VTIMEZONE
END:VCALENDAR
