BEGIN:VCALENDAR
VERSION:2.0
PRODID:-//Plone.org//NONSGML plone.app.event//EN
X-WR-TIMEZONE:US/Central
BEGIN:VEVENT
SUMMARY:"Drop In" Easter Craft
DTSTART;TZID=US/Central:20190413T100000
DTEND;TZID=US/Central:20190413T140000
DTSTAMP:20260422T065839Z
UID:44b1b4ef188046cfab4c9424a8a7a952@saas_stack_varnish:6080
ATTENDEE;CN="Children ages 2 to 12";ROLE=REQ-PARTICIPANT:Children ages 2 t
 o 12
CONTACT:Joyce L. Kleimann\, 409-986-7814
CREATED:20190326T211532Z
LAST-MODIFIED:20190326T211537Z
LOCATION:Hitchcock Library
URL:https://hitchcock.ploud.net/drop-in-easter-craft
END:VEVENT
BEGIN:VTIMEZONE
TZID:US/Central
X-LIC-LOCATION:US/Central
BEGIN:DAYLIGHT
DTSTART:20190310T030000
TZNAME:CDT
TZOFFSETFROM:-0600
TZOFFSETTO:-0500
END:DAYLIGHT
END:VTIMEZONE
END:VCALENDAR
