BEGIN:VCALENDAR
VERSION:2.0
PRODID:-//Plone.org//NONSGML plone.app.event//EN
X-WR-TIMEZONE:US/Central
BEGIN:VEVENT
SUMMARY:"Dancing Elves" Craft
DTSTART;TZID=US/Central:20191221T130000
DTEND;TZID=US/Central:20191221T133000
DTSTAMP:20260422T070100Z
UID:6e4358bf8c6f4600a2f8a048669d9fde@saas_stack_varnish:6080
ATTENDEE;CN="ages 1-12";ROLE=REQ-PARTICIPANT:ages 1-12
CONTACT:Joyce L. Kleimann\, 4099867814\, Hitchpl@comcast.net
CREATED:20191030T213524Z
LAST-MODIFIED:20191030T213527Z
LOCATION:Hitchcock Library
URL:https://hitchcock.ploud.net/dancing-elves-craft
END:VEVENT
BEGIN:VTIMEZONE
TZID:US/Central
X-LIC-LOCATION:US/Central
BEGIN:STANDARD
DTSTART:20191103T010000
TZNAME:CST
TZOFFSETFROM:-0500
TZOFFSETTO:-0600
END:STANDARD
END:VTIMEZONE
END:VCALENDAR
