BEGIN:VCALENDAR
VERSION:2.0
PRODID:-//Plone.org//NONSGML plone.app.event//EN
X-WR-TIMEZONE:US/Central
BEGIN:VEVENT
SUMMARY:FB: Create a Treat: Orangey Pumpkin/Banana Ghost
DTSTART;TZID=US/Central:20201016T133000
DTEND;TZID=US/Central:20201016T140000
DTSTAMP:20260422T103642Z
UID:dd2b65752c3b48e6b0b1a81f1ddeff7a@saas_stack_varnish:6080
CONTACT:Joyce L. Kleimann\, 14099867814\, Hitchpl@comcast.net
CREATED:20201006T202649Z
LAST-MODIFIED:20201015T150409Z
LOCATION:Facebook: Hitchcock Public Library
URL:https://hitchcock.ploud.net/create-a-treat-orangey-pumpkin-banana-ghos
 t
END:VEVENT
BEGIN:VTIMEZONE
TZID:US/Central
X-LIC-LOCATION:US/Central
BEGIN:DAYLIGHT
DTSTART:20200308T030000
TZNAME:CDT
TZOFFSETFROM:-0600
TZOFFSETTO:-0500
END:DAYLIGHT
END:VTIMEZONE
END:VCALENDAR
