BEGIN:VCALENDAR
VERSION:2.0
PRODID:-//Plone.org//NONSGML plone.app.event//EN
X-WR-TIMEZONE:US/Central
BEGIN:VEVENT
SUMMARY:Craft-Tissue Paper Fish
DTSTART;TZID=US/Central:20200715T130000
DTEND;TZID=US/Central:20200715T140000
DTSTAMP:20260422T070412Z
UID:a51fabd10aef431899329714fa3ae72d@saas_stack_varnish:6080
CONTACT:Joyce Kleimann\, 409-986-7814
CREATED:20200619T010405Z
LAST-MODIFIED:20200619T010409Z
LOCATION:Virtual-Facebook
URL:https://hitchcock.ploud.net/craft-tissue-paper-fish
END:VEVENT
BEGIN:VTIMEZONE
TZID:US/Central
X-LIC-LOCATION:US/Central
BEGIN:DAYLIGHT
DTSTART:20200308T030000
TZNAME:CDT
TZOFFSETFROM:-0600
TZOFFSETTO:-0500
END:DAYLIGHT
END:VTIMEZONE
END:VCALENDAR
