BEGIN:VCALENDAR
VERSION:2.0
PRODID:-//Plone.org//NONSGML plone.app.event//EN
X-WR-TIMEZONE:US/Central
BEGIN:VEVENT
SUMMARY:Craft Day
DTSTART;TZID=US/Central:20240413T130000
DTEND;TZID=US/Central:20240413T140000
DTSTAMP:20260424T101811Z
UID:19f9229f9f1c49c7b59aa557dd7c0039@saas_stack_varnish:6080
CONTACT:Brittany Tatyrek\, 409-986-7814\, hitchcockpubliclibrary@gmail.com
CREATED:20240402T161451Z
LAST-MODIFIED:20240402T161456Z
LOCATION:Hitchcock Public Library
URL:https://hitchcock.ploud.net/craft-day-2
END:VEVENT
BEGIN:VTIMEZONE
TZID:US/Central
X-LIC-LOCATION:US/Central
BEGIN:DAYLIGHT
DTSTART:20240310T030000
TZNAME:CDT
TZOFFSETFROM:-0600
TZOFFSETTO:-0500
END:DAYLIGHT
END:VTIMEZONE
END:VCALENDAR
