BEGIN:VCALENDAR
VERSION:2.0
PRODID:-//Plone.org//NONSGML plone.app.event//EN
X-WR-TIMEZONE:US/Central
BEGIN:VEVENT
SUMMARY:Craft Day
DTSTART;TZID=US/Central:20240210T130000
DTEND;TZID=US/Central:20240210T140000
DTSTAMP:20260422T052555Z
UID:444ba95ec5724fb68746fb7785dd33ff@saas_stack_varnish:6080
CONTACT:Brittany Tatyrek\, 409-986-7814\, hitchcockpubliclibrary@gmail.com
CREATED:20240123T183950Z
LAST-MODIFIED:20240206T161921Z
LOCATION:Hitchcock Public Library
URL:https://hitchcock.ploud.net/craft-day-1
END:VEVENT
BEGIN:VTIMEZONE
TZID:US/Central
X-LIC-LOCATION:US/Central
BEGIN:STANDARD
DTSTART:20231105T010000
TZNAME:CST
TZOFFSETFROM:-0500
TZOFFSETTO:-0600
END:STANDARD
END:VTIMEZONE
END:VCALENDAR
