BEGIN:VCALENDAR
VERSION:2.0
PRODID:-//Plone.org//NONSGML plone.app.event//EN
X-WR-TIMEZONE:US/Central
BEGIN:VEVENT
SUMMARY:CLOSED for Veterans Day
DTSTART;TZID=US/Central:20231111T100000
DTEND;TZID=US/Central:20231111T170000
DTSTAMP:20260422T084056Z
UID:064f40738c36498ca250042ca3fe17d3@saas_stack_varnish:6080
CREATED:20231024T215316Z
LAST-MODIFIED:20231102T174910Z
URL:https://hitchcock.ploud.net/closed-for-veterans-day
END:VEVENT
BEGIN:VTIMEZONE
TZID:US/Central
X-LIC-LOCATION:US/Central
BEGIN:STANDARD
DTSTART:20231105T010000
TZNAME:CST
TZOFFSETFROM:-0500
TZOFFSETTO:-0600
END:STANDARD
END:VTIMEZONE
END:VCALENDAR
