BEGIN:VCALENDAR
VERSION:2.0
PRODID:-//Plone.org//NONSGML plone.app.event//EN
X-WR-TIMEZONE:US/Central
BEGIN:VEVENT
SUMMARY:CLOSED for New Years Eve
DTSTART;TZID=US/Central:20221231T100000
DTEND;TZID=US/Central:20221231T150000
DTSTAMP:20260424T102317Z
UID:a098ee87b4c34a8081a948ad5eff0905@saas_stack_varnish:6080
CREATED:20221129T201502Z
LAST-MODIFIED:20221129T201508Z
URL:https://hitchcock.ploud.net/closed-for-new-years-eve
END:VEVENT
BEGIN:VTIMEZONE
TZID:US/Central
X-LIC-LOCATION:US/Central
BEGIN:STANDARD
DTSTART:20221106T010000
TZNAME:CST
TZOFFSETFROM:-0500
TZOFFSETTO:-0600
END:STANDARD
END:VTIMEZONE
END:VCALENDAR
