BEGIN:VCALENDAR
VERSION:2.0
PRODID:-//Plone.org//NONSGML plone.app.event//EN
X-WR-TIMEZONE:US/Central
BEGIN:VEVENT
SUMMARY:CLOSED for Memorial Day
DTSTART;TZID=US/Central:20230527T110000
DTEND;TZID=US/Central:20230527T120000
DTSTAMP:20260422T084310Z
UID:df9e5d0f50514ea6942199fc1f98fda5@saas_stack_varnish:6080
CREATED:20230503T162449Z
LAST-MODIFIED:20230503T162452Z
URL:https://hitchcock.ploud.net/closed-for-memorial-day
END:VEVENT
BEGIN:VTIMEZONE
TZID:US/Central
X-LIC-LOCATION:US/Central
BEGIN:DAYLIGHT
DTSTART:20230312T030000
TZNAME:CDT
TZOFFSETFROM:-0600
TZOFFSETTO:-0500
END:DAYLIGHT
END:VTIMEZONE
END:VCALENDAR
