BEGIN:VCALENDAR
VERSION:2.0
PRODID:-//Plone.org//NONSGML plone.app.event//EN
X-WR-TIMEZONE:US/Central
BEGIN:VEVENT
SUMMARY:CLOSED for Martin Luther King Jr. Day
DTSTART;VALUE=DATE:20240113
DTEND;VALUE=DATE:20240114
DTSTAMP:20260422T091542Z
UID:a31d9ecbb479460e955dee67e2edb540@saas_stack_varnish:6080
CREATED:20240103T191330Z
LAST-MODIFIED:20240103T191354Z
URL:https://hitchcock.ploud.net/closed-for-martin-luther-king-jr-day
END:VEVENT
END:VCALENDAR
