BEGIN:VCALENDAR
VERSION:2.0
PRODID:-//Plone.org//NONSGML plone.app.event//EN
X-WR-TIMEZONE:US/Central
BEGIN:VEVENT
SUMMARY:CLOSED for Labor Day
DTSTART;VALUE=DATE:20230902
DTEND;VALUE=DATE:20230903
DTSTAMP:20260422T070243Z
UID:e23a3b9b8de74ab08eb9f955dc4e1ff5@saas_stack_varnish:6080
CONTACT:409-986-7814\, hitchcockpubliclibrary@gmail.com
CREATED:20230811T164804Z
LAST-MODIFIED:20230811T164818Z
LOCATION:Hitchcock Public Library
URL:https://hitchcock.ploud.net/closed-for-labor-day
END:VEVENT
END:VCALENDAR
