BEGIN:VCALENDAR
VERSION:2.0
PRODID:-//Plone.org//NONSGML plone.app.event//EN
X-WR-TIMEZONE:US/Central
BEGIN:VEVENT
SUMMARY:CLOSED for Good Friday
DTSTART;TZID=US/Central:20230407T100000
DTEND;TZID=US/Central:20230407T170000
DTSTAMP:20260422T070244Z
UID:421c61d68b3145e08e3fd542ac456513@saas_stack_varnish:6080
CONTACT:409-986-7814\, hitchcockpubliclibrary@gmail.com
CREATED:20230329T180002Z
LAST-MODIFIED:20230329T181608Z
LOCATION:Hitchcock Public Library
URL:https://hitchcock.ploud.net/closed-for-good-friday
END:VEVENT
BEGIN:VTIMEZONE
TZID:US/Central
X-LIC-LOCATION:US/Central
BEGIN:DAYLIGHT
DTSTART:20230312T030000
TZNAME:CDT
TZOFFSETFROM:-0600
TZOFFSETTO:-0500
END:DAYLIGHT
END:VTIMEZONE
END:VCALENDAR
