BEGIN:VCALENDAR
VERSION:2.0
PRODID:-//Plone.org//NONSGML plone.app.event//EN
X-WR-TIMEZONE:US/Central
BEGIN:VEVENT
SUMMARY:CLOSED for Good Friday
DTSTART;VALUE=DATE:20240329
DTEND;VALUE=DATE:20240330
DTSTAMP:20260422T053528Z
UID:ca9bd805610f4d2784549ae950a85400@saas_stack_varnish:6080
CREATED:20240301T162713Z
LAST-MODIFIED:20240301T162745Z
URL:https://hitchcock.ploud.net/closed-for-good-friday-1
END:VEVENT
END:VCALENDAR
