BEGIN:VCALENDAR
VERSION:2.0
PRODID:-//Plone.org//NONSGML plone.app.event//EN
X-WR-TIMEZONE:US/Central
BEGIN:VEVENT
SUMMARY:CLOSED for Christmas
DTSTART;TZID=US/Central:20221223T100000
DTEND;TZID=US/Central:20221224T170000
DTSTAMP:20260422T053237Z
UID:6c0e6a4ecfde4a1c8b8c5678dc8e5160@saas_stack_varnish:6080
CONTACT:409-986-7814\, hitchcockpubliclibrary@gmail.com
CREATED:20221129T195034Z
LAST-MODIFIED:20221129T195042Z
LOCATION:Hitchcock Public Library
URL:https://hitchcock.ploud.net/closed-for-christmas
END:VEVENT
BEGIN:VTIMEZONE
TZID:US/Central
X-LIC-LOCATION:US/Central
BEGIN:STANDARD
DTSTART:20221106T010000
TZNAME:CST
TZOFFSETFROM:-0500
TZOFFSETTO:-0600
END:STANDARD
END:VTIMEZONE
END:VCALENDAR
