BEGIN:VCALENDAR
VERSION:2.0
PRODID:-//Plone.org//NONSGML plone.app.event//EN
X-WR-TIMEZONE:US/Central
BEGIN:VEVENT
SUMMARY:CLOSED for Christmas
DTSTART;TZID=US/Central:20231223T100000
DTEND;TZID=US/Central:20231226T170000
DTSTAMP:20260422T071746Z
UID:de5086612b8242fe800f0b0125b3afd2@saas_stack_varnish:6080
CREATED:20231129T170537Z
LAST-MODIFIED:20231219T171908Z
LOCATION:Hitchcock Public Library
URL:https://hitchcock.ploud.net/closed-for-christmas-1
END:VEVENT
BEGIN:VTIMEZONE
TZID:US/Central
X-LIC-LOCATION:US/Central
BEGIN:STANDARD
DTSTART:20231105T010000
TZNAME:CST
TZOFFSETFROM:-0500
TZOFFSETTO:-0600
END:STANDARD
END:VTIMEZONE
END:VCALENDAR
