BEGIN:VCALENDAR
VERSION:2.0
PRODID:-//Plone.org//NONSGML plone.app.event//EN
X-WR-TIMEZONE:US/Central
BEGIN:VEVENT
SUMMARY:Clay Pot "Candle" Centerpiece-Adult Craft
DTSTART;TZID=US/Central:20210925T103000
DTEND;TZID=US/Central:20210925T111500
DTSTAMP:20260422T090404Z
UID:2048084052794c10a9764dcda0eb1aef@saas_stack_varnish:6080
ATTENDEE;CN="Tweens and adults";ROLE=REQ-PARTICIPANT:Tweens and adults
CONTACT:Joyce L. Kleimann\, 1-409-986-7814
CREATED:20210825T195809Z
LAST-MODIFIED:20210903T211950Z
LOCATION:Facebook or in-person
URL:https://hitchcock.ploud.net/clay-pot-candle-centerpiece-adult-craft
END:VEVENT
BEGIN:VTIMEZONE
TZID:US/Central
X-LIC-LOCATION:US/Central
BEGIN:DAYLIGHT
DTSTART:20210314T030000
TZNAME:CDT
TZOFFSETFROM:-0600
TZOFFSETTO:-0500
END:DAYLIGHT
END:VTIMEZONE
END:VCALENDAR
