BEGIN:VCALENDAR
VERSION:2.0
PRODID:-//Plone.org//NONSGML plone.app.event//EN
X-WR-TIMEZONE:US/Central
BEGIN:VEVENT
SUMMARY:Christmas Open House
DTSTART;TZID=US/Central:20241207T110000
DTEND;TZID=US/Central:20241207T140000
DTSTAMP:20260422T070514Z
UID:b5c18ee10edd49e0a552d8511d95d651@saas_stack_varnish:6080
CONTACT:409-986-7814\, HitchcockPublicLibrary@gmail.com\, https://www.face
 book.com/share/KFewfaYWQBiNCqk4/
CREATED:20241005T012248Z
DESCRIPTION:Join us for our annual Christmas Open House on Saturday\, Dece
 mber 7th.\nVisit with Santa Claus\, shop our local craft vendors\, listen 
 to Christmas music\, and more!\n\nWant to be a vendor? Call us at the libr
 ary for more information! We'd love to have you!
LAST-MODIFIED:20241005T012303Z
LOCATION:Hitchcock Public Library
URL:https://hitchcock.ploud.net/christmas-open-house-2
END:VEVENT
BEGIN:VTIMEZONE
TZID:US/Central
X-LIC-LOCATION:US/Central
BEGIN:STANDARD
DTSTART:20241103T010000
TZNAME:CST
TZOFFSETFROM:-0500
TZOFFSETTO:-0600
END:STANDARD
END:VTIMEZONE
END:VCALENDAR
