BEGIN:VCALENDAR
VERSION:2.0
PRODID:-//Plone.org//NONSGML plone.app.event//EN
X-WR-TIMEZONE:US/Central
BEGIN:VEVENT
SUMMARY:Christmas Family Craft Day
DTSTART;TZID=US/Central:20231216T130000
DTEND;TZID=US/Central:20231216T140000
DTSTAMP:20260422T090247Z
UID:4faa37fd817e444684b2c746f12b1907@saas_stack_varnish:6080
CONTACT:Brittany Tatyrek\, 409-986-7814\, hitchcockpubliclibrary@gmail.com
CREATED:20231129T165549Z
LAST-MODIFIED:20231129T165602Z
LOCATION:Hitchcock Public Library
URL:https://hitchcock.ploud.net/christmas-family-craft-day
END:VEVENT
BEGIN:VTIMEZONE
TZID:US/Central
X-LIC-LOCATION:US/Central
BEGIN:STANDARD
DTSTART:20231105T010000
TZNAME:CST
TZOFFSETFROM:-0500
TZOFFSETTO:-0600
END:STANDARD
END:VTIMEZONE
END:VCALENDAR
