BEGIN:VCALENDAR
VERSION:2.0
PRODID:-//Plone.org//NONSGML plone.app.event//EN
X-WR-TIMEZONE:US/Central
BEGIN:VEVENT
SUMMARY:Christmas Eve
DTSTART;TZID=US/Central:20231224T100000
DTEND;TZID=US/Central:20231224T110000
DTSTAMP:20260422T052601Z
UID:f9af69ebd8b742e49f47572a28e8d8fb@saas_stack_varnish:6080
CREATED:20231129T170609Z
LAST-MODIFIED:20231129T170812Z
URL:https://hitchcock.ploud.net/christmas-eve
END:VEVENT
BEGIN:VTIMEZONE
TZID:US/Central
X-LIC-LOCATION:US/Central
BEGIN:STANDARD
DTSTART:20231105T010000
TZNAME:CST
TZOFFSETFROM:-0500
TZOFFSETTO:-0600
END:STANDARD
END:VTIMEZONE
END:VCALENDAR
