BEGIN:VCALENDAR
VERSION:2.0
PRODID:-//Plone.org//NONSGML plone.app.event//EN
X-WR-TIMEZONE:US/Central
BEGIN:VEVENT
SUMMARY:Chinese New Year Craft
DTSTART;TZID=US/Central:20230121T130000
DTEND;TZID=US/Central:20230121T140000
DTSTAMP:20260422T071801Z
UID:75f4775f7ee94430acda0dc07b633237@saas_stack_varnish:6080
CONTACT:409-986-7814\, hitchcockpubliclibrary@gmail.com
CREATED:20230105T162354Z
LAST-MODIFIED:20230105T162401Z
LOCATION:Hitchcock Public Library
URL:https://hitchcock.ploud.net/chinese-new-year-craft
END:VEVENT
BEGIN:VTIMEZONE
TZID:US/Central
X-LIC-LOCATION:US/Central
BEGIN:STANDARD
DTSTART:20221106T010000
TZNAME:CST
TZOFFSETFROM:-0500
TZOFFSETTO:-0600
END:STANDARD
END:VTIMEZONE
END:VCALENDAR
