BEGIN:VCALENDAR
VERSION:2.0
PRODID:-//Plone.org//NONSGML plone.app.event//EN
X-WR-TIMEZONE:US/Central
BEGIN:VEVENT
SUMMARY:Chinese New Year Craft
DTSTART;TZID=US/Central:20250125T130000
DTEND;TZID=US/Central:20250125T140000
DTSTAMP:20260422T090227Z
UID:4f52e2a5a32243a0b588eb4a75882d46@saas_stack_varnish:6080
CREATED:20250116T175636Z
DESCRIPTION:Join us on Saturday\, Jan. 25th at 1 pm for a Chinese New Year
  craft as we celebrate the Year of the Snake! Free fun for the whole famil
 y!
LAST-MODIFIED:20250116T175648Z
LOCATION:Hitchcock Library
URL:https://hitchcock.ploud.net/chinese-new-year-craft-1
END:VEVENT
BEGIN:VTIMEZONE
TZID:US/Central
X-LIC-LOCATION:US/Central
BEGIN:STANDARD
DTSTART:20241103T010000
TZNAME:CST
TZOFFSETFROM:-0500
TZOFFSETTO:-0600
END:STANDARD
END:VTIMEZONE
END:VCALENDAR
