BEGIN:VCALENDAR
VERSION:2.0
PRODID:-//Plone.org//NONSGML plone.app.event//EN
X-WR-TIMEZONE:US/Central
BEGIN:VEVENT
SUMMARY:Book Club
DTSTART;TZID=US/Central:20230110T190000
DTEND;TZID=US/Central:20230110T200000
DTSTAMP:20260422T051646Z
UID:191f28d37a6e468e8d8e116a418ce788@saas_stack_varnish:6080
CONTACT:409-986-7814\, hitchcockpubliclibrary@gmail.com
CREATED:20230105T162954Z
LAST-MODIFIED:20230105T162958Z
LOCATION:Hitchcock Public Library
URL:https://hitchcock.ploud.net/book-club
END:VEVENT
BEGIN:VTIMEZONE
TZID:US/Central
X-LIC-LOCATION:US/Central
BEGIN:STANDARD
DTSTART:20221106T010000
TZNAME:CST
TZOFFSETFROM:-0500
TZOFFSETTO:-0600
END:STANDARD
END:VTIMEZONE
END:VCALENDAR
