BEGIN:VCALENDAR
VERSION:2.0
PRODID:-//Plone.org//NONSGML plone.app.event//EN
X-WR-TIMEZONE:US/Central
BEGIN:VEVENT
SUMMARY:Book Club
DTSTART;TZID=US/Central:20230328T190000
DTEND;TZID=US/Central:20230328T200000
DTSTAMP:20260422T070820Z
UID:307b8f0ca1ff40eab8dcb1aa5420abca@saas_stack_varnish:6080
CREATED:20230307T192415Z
LAST-MODIFIED:20230307T192659Z
LOCATION:Hitchcock Public Library
URL:https://hitchcock.ploud.net/book-club-5
END:VEVENT
BEGIN:VTIMEZONE
TZID:US/Central
X-LIC-LOCATION:US/Central
BEGIN:DAYLIGHT
DTSTART:20230312T030000
TZNAME:CDT
TZOFFSETFROM:-0600
TZOFFSETTO:-0500
END:DAYLIGHT
END:VTIMEZONE
END:VCALENDAR
