BEGIN:VCALENDAR
VERSION:2.0
PRODID:-//Plone.org//NONSGML plone.app.event//EN
X-WR-TIMEZONE:US/Central
BEGIN:VEVENT
SUMMARY:Book Club
DTSTART;TZID=US/Central:20240123T190000
DTEND;TZID=US/Central:20240123T200000
DTSTAMP:20260422T070152Z
UID:d9c82de60c424488b628ad79697c2dbd@saas_stack_varnish:6080
CREATED:20240103T193843Z
LAST-MODIFIED:20240103T193847Z
LOCATION:Hitchcock Public Library
URL:https://hitchcock.ploud.net/book-club-20
END:VEVENT
BEGIN:VTIMEZONE
TZID:US/Central
X-LIC-LOCATION:US/Central
BEGIN:STANDARD
DTSTART:20231105T010000
TZNAME:CST
TZOFFSETFROM:-0500
TZOFFSETTO:-0600
END:STANDARD
END:VTIMEZONE
END:VCALENDAR
