BEGIN:VCALENDAR
VERSION:2.0
PRODID:-//Plone.org//NONSGML plone.app.event//EN
X-WR-TIMEZONE:US/Central
BEGIN:VEVENT
SUMMARY:Book Club
DTSTART;TZID=US/Central:20231212T190000
DTEND;TZID=US/Central:20231212T200000
DTSTAMP:20260422T083530Z
UID:fcb297cd53df4df68018ec39574c6052@saas_stack_varnish:6080
CREATED:20231129T164019Z
LAST-MODIFIED:20231129T164025Z
LOCATION:Hitchcock Public Library
URL:https://hitchcock.ploud.net/book-club-18
END:VEVENT
BEGIN:VTIMEZONE
TZID:US/Central
X-LIC-LOCATION:US/Central
BEGIN:STANDARD
DTSTART:20231105T010000
TZNAME:CST
TZOFFSETFROM:-0500
TZOFFSETTO:-0600
END:STANDARD
END:VTIMEZONE
END:VCALENDAR
