BEGIN:VCALENDAR
VERSION:2.0
PRODID:-//Plone.org//NONSGML plone.app.event//EN
X-WR-TIMEZONE:US/Central
BEGIN:VEVENT
SUMMARY:Book Club
DTSTART;TZID=US/Central:20231128T190000
DTEND;TZID=US/Central:20231128T200000
DTSTAMP:20260424T102018Z
UID:fe10d99ab62644369fa42c3cef22fb37@saas_stack_varnish:6080
CREATED:20231020T153349Z
LAST-MODIFIED:20231020T153407Z
LOCATION:Hitchcock Public Library
URL:https://hitchcock.ploud.net/book-club-17
END:VEVENT
BEGIN:VTIMEZONE
TZID:US/Central
X-LIC-LOCATION:US/Central
BEGIN:STANDARD
DTSTART:20231105T010000
TZNAME:CST
TZOFFSETFROM:-0500
TZOFFSETTO:-0600
END:STANDARD
END:VTIMEZONE
END:VCALENDAR
