BEGIN:VCALENDAR
VERSION:2.0
PRODID:-//Plone.org//NONSGML plone.app.event//EN
X-WR-TIMEZONE:US/Central
BEGIN:VEVENT
SUMMARY:Book Club
DTSTART;TZID=US/Central:20231114T190000
DTEND;TZID=US/Central:20231114T200000
DTSTAMP:20260422T070239Z
UID:26ac32ee2ccf4c5c928e961424e9cd11@saas_stack_varnish:6080
CREATED:20231020T152502Z
LAST-MODIFIED:20231020T152512Z
LOCATION:Hitchcock Public Library
URL:https://hitchcock.ploud.net/book-club-16
END:VEVENT
BEGIN:VTIMEZONE
TZID:US/Central
X-LIC-LOCATION:US/Central
BEGIN:STANDARD
DTSTART:20231105T010000
TZNAME:CST
TZOFFSETFROM:-0500
TZOFFSETTO:-0600
END:STANDARD
END:VTIMEZONE
END:VCALENDAR
