BEGIN:VCALENDAR
VERSION:2.0
PRODID:-//Plone.org//NONSGML plone.app.event//EN
X-WR-TIMEZONE:US/Central
BEGIN:VEVENT
SUMMARY:Book Club
DTSTART;TZID=US/Central:20231010T190000
DTEND;TZID=US/Central:20231010T200000
DTSTAMP:20260422T070153Z
UID:0824a8e611cc47c4962de9a1c7af8e60@saas_stack_varnish:6080
CREATED:20230928T183944Z
LAST-MODIFIED:20230928T184158Z
LOCATION:Hitchcock Public Library
URL:https://hitchcock.ploud.net/book-club-14
END:VEVENT
BEGIN:VTIMEZONE
TZID:US/Central
X-LIC-LOCATION:US/Central
BEGIN:DAYLIGHT
DTSTART:20230312T030000
TZNAME:CDT
TZOFFSETFROM:-0600
TZOFFSETTO:-0500
END:DAYLIGHT
END:VTIMEZONE
END:VCALENDAR
