BEGIN:VCALENDAR
VERSION:2.0
PRODID:-//Plone.org//NONSGML plone.app.event//EN
X-WR-TIMEZONE:US/Central
BEGIN:VEVENT
SUMMARY:Bake Sale
DTSTART;TZID=US/Central:20240328T093000
DTSTAMP:20260422T051604Z
UID:fe6ec7bde5684f8ab2cda3d8bf23ee37@saas_stack_varnish:6080
CREATED:20240320T180829Z
LAST-MODIFIED:20240320T180836Z
LOCATION:Texas First Bank
URL:https://hitchcock.ploud.net/bake-sale
END:VEVENT
BEGIN:VTIMEZONE
TZID:US/Central
X-LIC-LOCATION:US/Central
BEGIN:DAYLIGHT
DTSTART:20240310T030000
TZNAME:CDT
TZOFFSETFROM:-0600
TZOFFSETTO:-0500
END:DAYLIGHT
END:VTIMEZONE
END:VCALENDAR
